BEGIN:VCALENDAR
VERSION:2.0
PRODID:-//Monterrey Beer Week - ECPv6.12.0//NONSGML v1.0//EN
CALSCALE:GREGORIAN
METHOD:PUBLISH
X-ORIGINAL-URL:https://monterreybeerweek.com
X-WR-CALDESC:Eventos para Monterrey Beer Week
REFRESH-INTERVAL;VALUE=DURATION:PT1H
X-Robots-Tag:noindex
X-PUBLISHED-TTL:PT1H
BEGIN:VTIMEZONE
TZID:UTC
BEGIN:STANDARD
TZOFFSETFROM:+0000
TZOFFSETTO:+0000
TZNAME:UTC
DTSTART:20250101T000000
END:STANDARD
END:VTIMEZONE
BEGIN:VEVENT
DTSTART;TZID=UTC:20250607T150000
DTEND;TZID=UTC:20250607T230000
DTSTAMP:20260424T223158
CREATED:20250514T043720Z
LAST-MODIFIED:20250530T210948Z
UID:695-1749308400-1749337200@monterreybeerweek.com
SUMMARY:El Rodeo de Don Felicitas
DESCRIPTION:Felicitas nos presenta 4 variedades de su serie Aprecia a la Vaca; deliciosa y celebrate Milk Stout. \nReserva aquí
URL:https://monterreybeerweek.com/event/el-rodeo-de-don-felicitas/
LOCATION:CheveCraft\, Belisario Domínguez\, Centro\, Monterrey\, Nuevo\, León\, 64050\, Mexico
CATEGORIES:Social
ATTACH;FMTTYPE=image/jpeg:https://monterreybeerweek.com/wp-content/uploads/2025/05/Rodeo-Felicitas.jpeg
END:VEVENT
BEGIN:VEVENT
DTSTART;TZID=UTC:20250607T140000
DTEND;TZID=UTC:20250607T160000
DTSTAMP:20260424T223158
CREATED:20250522T010947Z
LAST-MODIFIED:20250530T212447Z
UID:829-1749304800-1749312000@monterreybeerweek.com
SUMMARY:Beer Yoga
DESCRIPTION:Beer Yoga en Cervecería Huerca: Te invitamos a ejercitarte\, meditar y disfrutar de buena cerveza 🍺. \nReserva Aquí
URL:https://monterreybeerweek.com/event/beer-yoga/
LOCATION:Cerveceria Huerca\, Av. Manuel Gómez Morín #1105\, Zona Residencial Chipinque.\, San Pedro Garza García\, Nuevo León\, 66254\, Mexico
CATEGORIES:Experiencias
ATTACH;FMTTYPE=image/png:https://monterreybeerweek.com/wp-content/uploads/2025/05/beeryoga-01.png
END:VEVENT
BEGIN:VEVENT
DTSTART;TZID=UTC:20250607T080000
DTEND;TZID=UTC:20250615T170000
DTSTAMP:20260424T223158
CREATED:20250514T042731Z
LAST-MODIFIED:20250528T004233Z
UID:688-1749283200-1750006800@monterreybeerweek.com
SUMMARY:MBW: Semana de restaurantes
DESCRIPTION:Semana con precios especiales y colaboraciones en centros de consumo. Platillos y menús especiales a precio especial.
URL:https://monterreybeerweek.com/event/mbw-semana-de-restaurantes/
LOCATION:Varios\, Monterrey\, Nuevo León\, Mexico
ATTACH;FMTTYPE=image/jpeg:https://monterreybeerweek.com/wp-content/uploads/2025/05/600x600_MBW_CC.jpg
END:VEVENT
BEGIN:VEVENT
DTSTART;TZID=UTC:20250605T203000
DTEND;TZID=UTC:20250605T203000
DTSTAMP:20260424T223158
CREATED:20250523T163023Z
LAST-MODIFIED:20250604T190835Z
UID:902-1749155400-1749155400@monterreybeerweek.com
SUMMARY:Run the Beers 5km en MBW
DESCRIPTION:Estamos muy emocionados de unir este año nuestro trote a las actividades del Monterrey Beer Week! \nTe invitamos a participar en nuestra carrera de 5k próxima a realizarse\, el jueves 5 de Junio a las 8:30 p.m. en las instalaciones de La Grange Taproom.\nEste trote ha sido pensado tanto para los amantes del deporte y la buena cerveza. Tras completar el recorrido todos los participantes podrán disfrutar de una de las mejores cervezas artesanales locales a cargo de cerveza Rrëy. \n¡Deporte y celebración en un solo lugar! \nReserva Aquí
URL:https://monterreybeerweek.com/event/run-the-beers-5km-en-mbw/
LOCATION:La Grange Taproom\, Av. Jesús Cantú Leal #1545\, Col. Buenos Aires\, Monterrey\, Nuevo León\, 64800\, Mexico
CATEGORIES:Experiencias
ATTACH;FMTTYPE=image/jpeg:https://monterreybeerweek.com/wp-content/uploads/2025/05/600x600_run.jpg
END:VEVENT
BEGIN:VEVENT
DTSTART;TZID=UTC:20250604T180000
DTEND;TZID=UTC:20250604T220000
DTSTAMP:20260424T223158
CREATED:20250515T164005Z
LAST-MODIFIED:20250531T000326Z
UID:791-1749060000-1749074400@monterreybeerweek.com
SUMMARY:Diseño\, Arte & Cerveza
DESCRIPTION:Es una iniciativa para generar un dialogo entre diseñadores\, artistas y entusiastas a la cerveza\, en relación a la importancia de la gráfica y narrativa en etiquetas y comunicación de las cervecerias y/o Proyectos independientes\, donde el carácter visual de cada cerveza\, etiqueta o campaña impacta en la relación con el consumidor.
URL:https://monterreybeerweek.com/event/diseno-arte-cerveza/
LOCATION:Escuela Adolfo Prieto\, Prol Madero S/N\, Obrera\, Monterrey\, Centro\, Nuevo León\, 64010\, Mexico
CATEGORIES:Experiencias
ATTACH;FMTTYPE=image/png:https://monterreybeerweek.com/wp-content/uploads/2025/05/600x600_Diseno_arte_cerveza.png
END:VEVENT
END:VCALENDAR